BEGIN:VCALENDAR
VERSION:2.0
PRODID:-//CPSAC - ECPv6.15.18//NONSGML v1.0//EN
CALSCALE:GREGORIAN
METHOD:PUBLISH
X-WR-CALNAME:CPSAC
X-ORIGINAL-URL:https://cpsac.org
X-WR-CALDESC:Events for CPSAC
REFRESH-INTERVAL;VALUE=DURATION:PT1H
X-Robots-Tag:noindex
X-PUBLISHED-TTL:PT1H
BEGIN:VTIMEZONE
TZID:America/Toronto
BEGIN:DAYLIGHT
TZOFFSETFROM:-0500
TZOFFSETTO:-0400
TZNAME:EDT
DTSTART:20250309T070000
END:DAYLIGHT
BEGIN:STANDARD
TZOFFSETFROM:-0400
TZOFFSETTO:-0500
TZNAME:EST
DTSTART:20251102T060000
END:STANDARD
BEGIN:DAYLIGHT
TZOFFSETFROM:-0500
TZOFFSETTO:-0400
TZNAME:EDT
DTSTART:20260308T070000
END:DAYLIGHT
BEGIN:STANDARD
TZOFFSETFROM:-0400
TZOFFSETTO:-0500
TZNAME:EST
DTSTART:20261101T060000
END:STANDARD
BEGIN:DAYLIGHT
TZOFFSETFROM:-0500
TZOFFSETTO:-0400
TZNAME:EDT
DTSTART:20270314T070000
END:DAYLIGHT
BEGIN:STANDARD
TZOFFSETFROM:-0400
TZOFFSETTO:-0500
TZNAME:EST
DTSTART:20271107T060000
END:STANDARD
END:VTIMEZONE
BEGIN:VTIMEZONE
TZID:America/Winnipeg
BEGIN:DAYLIGHT
TZOFFSETFROM:-0600
TZOFFSETTO:-0500
TZNAME:CDT
DTSTART:20250309T080000
END:DAYLIGHT
BEGIN:STANDARD
TZOFFSETFROM:-0500
TZOFFSETTO:-0600
TZNAME:CST
DTSTART:20251102T070000
END:STANDARD
BEGIN:DAYLIGHT
TZOFFSETFROM:-0600
TZOFFSETTO:-0500
TZNAME:CDT
DTSTART:20260308T080000
END:DAYLIGHT
BEGIN:STANDARD
TZOFFSETFROM:-0500
TZOFFSETTO:-0600
TZNAME:CST
DTSTART:20261101T070000
END:STANDARD
BEGIN:DAYLIGHT
TZOFFSETFROM:-0600
TZOFFSETTO:-0500
TZNAME:CDT
DTSTART:20270314T080000
END:DAYLIGHT
BEGIN:STANDARD
TZOFFSETFROM:-0500
TZOFFSETTO:-0600
TZNAME:CST
DTSTART:20271107T070000
END:STANDARD
END:VTIMEZONE
BEGIN:VTIMEZONE
TZID:America/Moncton
BEGIN:DAYLIGHT
TZOFFSETFROM:-0400
TZOFFSETTO:-0300
TZNAME:ADT
DTSTART:20250309T060000
END:DAYLIGHT
BEGIN:STANDARD
TZOFFSETFROM:-0300
TZOFFSETTO:-0400
TZNAME:AST
DTSTART:20251102T050000
END:STANDARD
BEGIN:DAYLIGHT
TZOFFSETFROM:-0400
TZOFFSETTO:-0300
TZNAME:ADT
DTSTART:20260308T060000
END:DAYLIGHT
BEGIN:STANDARD
TZOFFSETFROM:-0300
TZOFFSETTO:-0400
TZNAME:AST
DTSTART:20261101T050000
END:STANDARD
BEGIN:DAYLIGHT
TZOFFSETFROM:-0400
TZOFFSETTO:-0300
TZNAME:ADT
DTSTART:20270314T060000
END:DAYLIGHT
BEGIN:STANDARD
TZOFFSETFROM:-0300
TZOFFSETTO:-0400
TZNAME:AST
DTSTART:20271107T050000
END:STANDARD
END:VTIMEZONE
BEGIN:VEVENT
DTSTART;TZID=America/Toronto:20260228T080000
DTEND;TZID=America/Toronto:20260228T170000
DTSTAMP:20260420T195911
CREATED:20260212T194906Z
LAST-MODIFIED:20260213T172416Z
UID:10002869-1772265600-1772298000@cpsac.org
SUMMARY:CPSAC tech training- Ottawa
DESCRIPTION:The Child Passenger Safety Technician (CPST) training was developed by the Child Passenger Safety Association of Canada (CPSAC)\, a nationally-recognized\, standardized\, professional training and certification program provided by instructors in all provinces and territories. SEATS for Kids delivers this training in Ottawa and across Eastern and Central Ontario. \nStudents will learn about the various types of restraint systems and stages\, how to install various types of car seats\, and vehicle restraint laws in Canada. Students will also be required to participate in a short car seat clinic with the focus on educating parents and assisting with installation of their child restraint system. \nThe training includes two and a half days in a classroom setting and a 3-4 hour hands-on practical exam at a car seat clinic. (this will usually occur on the afternoon of the 3rd day)
URL:https://cpsac.org/event/cpsac-tech-training-ottawa/2026-02-28/
LOCATION:Dymon Storage\, 1830 Walkley Rd\, Ottawa\, ON\, K1H 8K3\, Canada
CATEGORIES:Events,Training
ATTACH;FMTTYPE=image/jpeg:https://cpsac.org/wp-content/uploads/2026/02/SEATS-LOGO-1.jpg
ORGANIZER;CN="SEATS for Kids":MAILTO:director@seatsforkids.ca
GEO:45.3806606;-75.6359504
X-APPLE-STRUCTURED-LOCATION;VALUE=URI;X-ADDRESS=Dymon Storage 1830 Walkley Rd Ottawa ON K1H 8K3 Canada;X-APPLE-RADIUS=500;X-TITLE=1830 Walkley Rd:geo:-75.6359504,45.3806606
END:VEVENT
BEGIN:VEVENT
DTSTART;TZID=America/Toronto:20260227T080000
DTEND;TZID=America/Toronto:20260301T173000
DTSTAMP:20260420T195911
CREATED:20260116T124814Z
LAST-MODIFIED:20260116T124846Z
UID:10002857-1772179200-1772386200@cpsac.org
SUMMARY:Formation TSEP Mont-Tremblant
DESCRIPTION:Mont-Tremblant \n27-28 février et 1er mars 2026 \n8h à 17h30 \n400$/participant
URL:https://cpsac.org/event/formation-tsep-mont-tremblant/
LOCATION:ontario
ATTACH;FMTTYPE=image/png:https://cpsac.org/wp-content/uploads/2026/01/Copy-of-Formation-TSEP-horizontal-2.png
ORGANIZER;CN="Vanessa Olsen":MAILTO:Volsen90@gmail.com
END:VEVENT
BEGIN:VEVENT
DTSTART;TZID=America/Toronto:20260225T090000
DTEND;TZID=America/Toronto:20260225T160000
DTSTAMP:20260420T195911
CREATED:20251001T141448Z
LAST-MODIFIED:20260330T143225Z
UID:10002589-1772010000-1772035200@cpsac.org
SUMMARY:Car Seat Education Appointments
DESCRIPTION:Register for a FREE child car seat appointment to learn how to properly use and install your child’s car seat in your vehicle. \nAppointments are offered most Wednesdays\, and registration opens 3 weeks prior to the date. If there is not an appointment available at a time that works for you\, please email emma.schmidt@sickkids.ca to be placed on a waitlist. \n Location: 555 University Ave\, please park your vehicle on the ramp near the entrance to the hospital. \nNote:  \n\nOne seat per appointment. Please book back-to back appointments if you have more than one seat.\nInterpretation services can be requested ahead of time by emailing emma.schmidt@sickkids.ca.\n\nCancellation Policy:  \nIf you are unable to keep your appointment\, kindly let us know so that we can offer the spot to another family: emma.schmidt@sickkids.ca. Failure to attend a scheduled appointment may result in the loss of booking privileges. Please notify us in advance if you are unable to attend.
URL:https://cpsac.org/event/car-seat-education-appointments/2026-02-25/
LOCATION:The Hospital for Sick Children\, University Avenue\, Toronto\, ON\, M5G 1X8\, Canada
CATEGORIES:Clinic
ATTACH;FMTTYPE=image/jpeg:https://cpsac.org/wp-content/uploads/2025/10/SK-logo-horiz-Trauma-Program.jpg
ORGANIZER;CN="The Hospital for Sick Children":MAILTO:emma.schmidt@sickkids.ca
GEO:43.6570957;-79.3877344
X-APPLE-STRUCTURED-LOCATION;VALUE=URI;X-ADDRESS=The Hospital for Sick Children University Avenue Toronto ON M5G 1X8 Canada;X-APPLE-RADIUS=500;X-TITLE=University Avenue:geo:-79.3877344,43.6570957
END:VEVENT
BEGIN:VEVENT
DTSTART;TZID=America/Winnipeg:20260225T083000
DTEND;TZID=America/Winnipeg:20260228T163000
DTSTAMP:20260420T195911
CREATED:20260213T190006Z
LAST-MODIFIED:20260213T234538Z
UID:10002871-1772008200-1772296200@cpsac.org
SUMMARY:CPST Training - Winnipeg\, MB
DESCRIPTION:The Child Passenger Safety Technician (CPST) training course is offered through the Child Passenger Safety Association of Canada (CPSAC). This course is well-suited for anyone who works with\, transports\, or cares for children\, including (but not limited to) people in the following fields: \n\nHealthcare\nFamily and birth support professionals\nInjury prevention and health promotion\nFirst responders\nFamily resource centres\, social services agencies\n\nSuccessful completion of the course requires 100% attendance for both the classroom and clinic portions\, with skills assessment by the instructor(s) throughout the course. Successful candidates will receive a professional certificate that is valid for 3 years. \nAbout the CPST Certification Course\nPlease view FAQs here. \nCourse dates and times:\n100% attendance is required for successful completion of this course. Regular short breaks will be offered throughout\, and there will be at least half an hour for lunch. \nWednesday\, February 25 through Saturday\, February 28\, with indoor space for vehicles. 8:30-4:30pm Wed-Fri\, schedule TBA on Saturday. \nThere is last-minute subsidized space available in this course and priority will be given to those who directly work to support families and caregivers. For more information please contact Jen Shapka at greybird.CPST@gmail.com.
URL:https://cpsac.org/event/cpst-training-winnipeg-mb/
LOCATION:Safety Services Manitoba\, 3-1680 Notre Dame Avenue\, Winnipeg\, Manitoba\, R3H 1H6\, Canada
CATEGORIES:Events,Training
ATTACH;FMTTYPE=image/png:https://cpsac.org/wp-content/uploads/2026/02/Wpg-course.png
ORGANIZER;CN="Jen Shapka":MAILTO:greybird.cpst@gmail.com
GEO:49.9160668;-97.1966992
X-APPLE-STRUCTURED-LOCATION;VALUE=URI;X-ADDRESS=Safety Services Manitoba 3-1680 Notre Dame Avenue Winnipeg Manitoba R3H 1H6 Canada;X-APPLE-RADIUS=500;X-TITLE=3-1680 Notre Dame Avenue:geo:-97.1966992,49.9160668
END:VEVENT
BEGIN:VEVENT
DTSTART;TZID=America/Toronto:20260218T090000
DTEND;TZID=America/Toronto:20260218T160000
DTSTAMP:20260420T195911
CREATED:20251001T141448Z
LAST-MODIFIED:20260330T143225Z
UID:10002588-1771405200-1771430400@cpsac.org
SUMMARY:Car Seat Education Appointments
DESCRIPTION:Register for a FREE child car seat appointment to learn how to properly use and install your child’s car seat in your vehicle. \nAppointments are offered most Wednesdays\, and registration opens 3 weeks prior to the date. If there is not an appointment available at a time that works for you\, please email emma.schmidt@sickkids.ca to be placed on a waitlist. \n Location: 555 University Ave\, please park your vehicle on the ramp near the entrance to the hospital. \nNote:  \n\nOne seat per appointment. Please book back-to back appointments if you have more than one seat.\nInterpretation services can be requested ahead of time by emailing emma.schmidt@sickkids.ca.\n\nCancellation Policy:  \nIf you are unable to keep your appointment\, kindly let us know so that we can offer the spot to another family: emma.schmidt@sickkids.ca. Failure to attend a scheduled appointment may result in the loss of booking privileges. Please notify us in advance if you are unable to attend.
URL:https://cpsac.org/event/car-seat-education-appointments/2026-02-18/
LOCATION:The Hospital for Sick Children\, University Avenue\, Toronto\, ON\, M5G 1X8\, Canada
CATEGORIES:Clinic
ATTACH;FMTTYPE=image/jpeg:https://cpsac.org/wp-content/uploads/2025/10/SK-logo-horiz-Trauma-Program.jpg
ORGANIZER;CN="The Hospital for Sick Children":MAILTO:emma.schmidt@sickkids.ca
GEO:43.6570957;-79.3877344
X-APPLE-STRUCTURED-LOCATION;VALUE=URI;X-ADDRESS=The Hospital for Sick Children University Avenue Toronto ON M5G 1X8 Canada;X-APPLE-RADIUS=500;X-TITLE=University Avenue:geo:-79.3877344,43.6570957
END:VEVENT
BEGIN:VEVENT
DTSTART;TZID=America/Toronto:20260204T090000
DTEND;TZID=America/Toronto:20260204T160000
DTSTAMP:20260420T195911
CREATED:20251001T141448Z
LAST-MODIFIED:20260330T143225Z
UID:10002587-1770195600-1770220800@cpsac.org
SUMMARY:Car Seat Education Appointments
DESCRIPTION:Register for a FREE child car seat appointment to learn how to properly use and install your child’s car seat in your vehicle. \nAppointments are offered most Wednesdays\, and registration opens 3 weeks prior to the date. If there is not an appointment available at a time that works for you\, please email emma.schmidt@sickkids.ca to be placed on a waitlist. \n Location: 555 University Ave\, please park your vehicle on the ramp near the entrance to the hospital. \nNote:  \n\nOne seat per appointment. Please book back-to back appointments if you have more than one seat.\nInterpretation services can be requested ahead of time by emailing emma.schmidt@sickkids.ca.\n\nCancellation Policy:  \nIf you are unable to keep your appointment\, kindly let us know so that we can offer the spot to another family: emma.schmidt@sickkids.ca. Failure to attend a scheduled appointment may result in the loss of booking privileges. Please notify us in advance if you are unable to attend.
URL:https://cpsac.org/event/car-seat-education-appointments/2026-02-04/
LOCATION:The Hospital for Sick Children\, University Avenue\, Toronto\, ON\, M5G 1X8\, Canada
CATEGORIES:Clinic
ATTACH;FMTTYPE=image/jpeg:https://cpsac.org/wp-content/uploads/2025/10/SK-logo-horiz-Trauma-Program.jpg
ORGANIZER;CN="The Hospital for Sick Children":MAILTO:emma.schmidt@sickkids.ca
GEO:43.6570957;-79.3877344
X-APPLE-STRUCTURED-LOCATION;VALUE=URI;X-ADDRESS=The Hospital for Sick Children University Avenue Toronto ON M5G 1X8 Canada;X-APPLE-RADIUS=500;X-TITLE=University Avenue:geo:-79.3877344,43.6570957
END:VEVENT
BEGIN:VEVENT
DTSTART;TZID=America/Moncton:20260202T090000
DTEND;TZID=America/Moncton:20260202T120000
DTSTAMP:20260420T195911
CREATED:20250325T171011Z
LAST-MODIFIED:20250911T155102Z
UID:10001769-1770022800-1770033600@cpsac.org
SUMMARY:Car Seat Clinic | Clinique de siège d’auto
DESCRIPTION:????Are you sure your child’s car seat is installed correctly? \nOver 70% of car seats are misused\, but we’re here to help! \nOur Certified Child Passenger Safety Technician will be on-site to: \n✅ Inspect your car seat installation\n✅ Provide hands-on assistance and guidance\n✅ Ensure your child’s seat meets safety standards\n✅ Answer any questions you have about car seat safety \n  \nWhy Attend? \n\nProtect your child with expert help\nLearn the latest car seat safety tips\nCompletely FREE service! Donations accepted.\n\nRSVP Now: (506)384-7874 to reserve your spot\, as space is limited. \n  \n???????? \nÊtes-vous sûr que le siège auto de votre enfant est correctement installé ? \nPlus de 70 % des sièges auto sont mal utilisés\, mais nous sommes là pour vous aider ! \nNotre Technicienne Certifié en Sécurité des Sièges Auto sera sur place pour : \n✅ Vérifier l’installation de votre siège auto\n✅ Vous fournir une assistance et des conseils pratiques\n✅ S’assurer que le siège de votre enfant répond aux normes de sécurité\n✅ Répondre à toutes vos questions sur la sécurité des sièges auto \n  \nPourquoi participer ? \n\nProtégez votre enfant avec l’aide d’experts\nApprenez les dernières astuces de sécurité des sièges auto\nService complètement GRATUIT !\n\nInscrivez-vous maintenant : (506)384-7874 pour réserver votre place\, car les places sont limitées.
URL:https://cpsac.org/event/car-seat-clinic-clinique-de-siege-dauto/2026-02-02/
LOCATION:MacDonaldBuickGMC\, 111BaigBlvd.\, Moncton\, NB\, E1A 1S7\, Canada
CATEGORIES:Clinic,Events
ORGANIZER;CN="Monique":MAILTO:admin@frc-crf.com
GEO:46.0960121;-64.754296
X-APPLE-STRUCTURED-LOCATION;VALUE=URI;X-ADDRESS=MacDonaldBuickGMC 111BaigBlvd. Moncton NB E1A 1S7 Canada;X-APPLE-RADIUS=500;X-TITLE=111BaigBlvd.:geo:-64.754296,46.0960121
END:VEVENT
BEGIN:VEVENT
DTSTART;TZID=America/Toronto:20260128T090000
DTEND;TZID=America/Toronto:20260128T160000
DTSTAMP:20260420T195912
CREATED:20251001T141448Z
LAST-MODIFIED:20260330T143225Z
UID:10002586-1769590800-1769616000@cpsac.org
SUMMARY:Car Seat Education Appointments
DESCRIPTION:Register for a FREE child car seat appointment to learn how to properly use and install your child’s car seat in your vehicle. \nAppointments are offered most Wednesdays\, and registration opens 3 weeks prior to the date. If there is not an appointment available at a time that works for you\, please email emma.schmidt@sickkids.ca to be placed on a waitlist. \n Location: 555 University Ave\, please park your vehicle on the ramp near the entrance to the hospital. \nNote:  \n\nOne seat per appointment. Please book back-to back appointments if you have more than one seat.\nInterpretation services can be requested ahead of time by emailing emma.schmidt@sickkids.ca.\n\nCancellation Policy:  \nIf you are unable to keep your appointment\, kindly let us know so that we can offer the spot to another family: emma.schmidt@sickkids.ca. Failure to attend a scheduled appointment may result in the loss of booking privileges. Please notify us in advance if you are unable to attend.
URL:https://cpsac.org/event/car-seat-education-appointments/2026-01-28/
LOCATION:The Hospital for Sick Children\, University Avenue\, Toronto\, ON\, M5G 1X8\, Canada
CATEGORIES:Clinic
ATTACH;FMTTYPE=image/jpeg:https://cpsac.org/wp-content/uploads/2025/10/SK-logo-horiz-Trauma-Program.jpg
ORGANIZER;CN="The Hospital for Sick Children":MAILTO:emma.schmidt@sickkids.ca
GEO:43.6570957;-79.3877344
X-APPLE-STRUCTURED-LOCATION;VALUE=URI;X-ADDRESS=The Hospital for Sick Children University Avenue Toronto ON M5G 1X8 Canada;X-APPLE-RADIUS=500;X-TITLE=University Avenue:geo:-79.3877344,43.6570957
END:VEVENT
BEGIN:VEVENT
DTSTART;TZID=America/Toronto:20260125T120000
DTEND;TZID=America/Toronto:20260125T160000
DTSTAMP:20260420T195912
CREATED:20251125T195949Z
LAST-MODIFIED:20251125T200227Z
UID:10002839-1769342400-1769356800@cpsac.org
SUMMARY:Car Seat Clinic
DESCRIPTION:Car Seat Clinic\, located at the Strathmore Fire Department. January 25th\, 12pm – 4pm
URL:https://cpsac.org/event/car-seat-clinic-13/
LOCATION:ontario
CATEGORIES:Clinic
ATTACH;FMTTYPE=image/png:https://cpsac.org/wp-content/uploads/2025/11/1200-2.png
END:VEVENT
BEGIN:VEVENT
DTSTART;TZID=America/Toronto:20260121T090000
DTEND;TZID=America/Toronto:20260121T160000
DTSTAMP:20260420T195912
CREATED:20251001T141448Z
LAST-MODIFIED:20260330T143225Z
UID:10002585-1768986000-1769011200@cpsac.org
SUMMARY:Car Seat Education Appointments
DESCRIPTION:Register for a FREE child car seat appointment to learn how to properly use and install your child’s car seat in your vehicle. \nAppointments are offered most Wednesdays\, and registration opens 3 weeks prior to the date. If there is not an appointment available at a time that works for you\, please email emma.schmidt@sickkids.ca to be placed on a waitlist. \n Location: 555 University Ave\, please park your vehicle on the ramp near the entrance to the hospital. \nNote:  \n\nOne seat per appointment. Please book back-to back appointments if you have more than one seat.\nInterpretation services can be requested ahead of time by emailing emma.schmidt@sickkids.ca.\n\nCancellation Policy:  \nIf you are unable to keep your appointment\, kindly let us know so that we can offer the spot to another family: emma.schmidt@sickkids.ca. Failure to attend a scheduled appointment may result in the loss of booking privileges. Please notify us in advance if you are unable to attend.
URL:https://cpsac.org/event/car-seat-education-appointments/2026-01-21/
LOCATION:The Hospital for Sick Children\, University Avenue\, Toronto\, ON\, M5G 1X8\, Canada
CATEGORIES:Clinic
ATTACH;FMTTYPE=image/jpeg:https://cpsac.org/wp-content/uploads/2025/10/SK-logo-horiz-Trauma-Program.jpg
ORGANIZER;CN="The Hospital for Sick Children":MAILTO:emma.schmidt@sickkids.ca
GEO:43.6570957;-79.3877344
X-APPLE-STRUCTURED-LOCATION;VALUE=URI;X-ADDRESS=The Hospital for Sick Children University Avenue Toronto ON M5G 1X8 Canada;X-APPLE-RADIUS=500;X-TITLE=University Avenue:geo:-79.3877344,43.6570957
END:VEVENT
END:VCALENDAR