BEGIN:VCALENDAR
VERSION:2.0
PRODID:-//CPSAC - ECPv6.15.18//NONSGML v1.0//EN
CALSCALE:GREGORIAN
METHOD:PUBLISH
X-ORIGINAL-URL:https://cpsac.org
X-WR-CALDESC:Events for CPSAC
REFRESH-INTERVAL;VALUE=DURATION:PT1H
X-Robots-Tag:noindex
X-PUBLISHED-TTL:PT1H
BEGIN:VTIMEZONE
TZID:America/Toronto
BEGIN:DAYLIGHT
TZOFFSETFROM:-0500
TZOFFSETTO:-0400
TZNAME:EDT
DTSTART:20250309T070000
END:DAYLIGHT
BEGIN:STANDARD
TZOFFSETFROM:-0400
TZOFFSETTO:-0500
TZNAME:EST
DTSTART:20251102T060000
END:STANDARD
BEGIN:DAYLIGHT
TZOFFSETFROM:-0500
TZOFFSETTO:-0400
TZNAME:EDT
DTSTART:20260308T070000
END:DAYLIGHT
BEGIN:STANDARD
TZOFFSETFROM:-0400
TZOFFSETTO:-0500
TZNAME:EST
DTSTART:20261101T060000
END:STANDARD
BEGIN:DAYLIGHT
TZOFFSETFROM:-0500
TZOFFSETTO:-0400
TZNAME:EDT
DTSTART:20270314T070000
END:DAYLIGHT
BEGIN:STANDARD
TZOFFSETFROM:-0400
TZOFFSETTO:-0500
TZNAME:EST
DTSTART:20271107T060000
END:STANDARD
END:VTIMEZONE
BEGIN:VTIMEZONE
TZID:America/Moncton
BEGIN:DAYLIGHT
TZOFFSETFROM:-0400
TZOFFSETTO:-0300
TZNAME:ADT
DTSTART:20250309T060000
END:DAYLIGHT
BEGIN:STANDARD
TZOFFSETFROM:-0300
TZOFFSETTO:-0400
TZNAME:AST
DTSTART:20251102T050000
END:STANDARD
BEGIN:DAYLIGHT
TZOFFSETFROM:-0400
TZOFFSETTO:-0300
TZNAME:ADT
DTSTART:20260308T060000
END:DAYLIGHT
BEGIN:STANDARD
TZOFFSETFROM:-0300
TZOFFSETTO:-0400
TZNAME:AST
DTSTART:20261101T050000
END:STANDARD
BEGIN:DAYLIGHT
TZOFFSETFROM:-0400
TZOFFSETTO:-0300
TZNAME:ADT
DTSTART:20270314T060000
END:DAYLIGHT
BEGIN:STANDARD
TZOFFSETFROM:-0300
TZOFFSETTO:-0400
TZNAME:AST
DTSTART:20271107T050000
END:STANDARD
END:VTIMEZONE
BEGIN:VEVENT
DTSTART;TZID=America/Toronto:20260701T090000
DTEND;TZID=America/Toronto:20260701T160000
DTSTAMP:20260424T095753
CREATED:20251001T141448Z
LAST-MODIFIED:20260330T143225Z
UID:10002607-1782896400-1782921600@cpsac.org
SUMMARY:Car Seat Education Appointments
DESCRIPTION:Register for a FREE child car seat appointment to learn how to properly use and install your child’s car seat in your vehicle. \nAppointments are offered most Wednesdays\, and registration opens 3 weeks prior to the date. If there is not an appointment available at a time that works for you\, please email emma.schmidt@sickkids.ca to be placed on a waitlist. \n Location: 555 University Ave\, please park your vehicle on the ramp near the entrance to the hospital. \nNote:  \n\nOne seat per appointment. Please book back-to back appointments if you have more than one seat.\nInterpretation services can be requested ahead of time by emailing emma.schmidt@sickkids.ca.\n\nCancellation Policy:  \nIf you are unable to keep your appointment\, kindly let us know so that we can offer the spot to another family: emma.schmidt@sickkids.ca. Failure to attend a scheduled appointment may result in the loss of booking privileges. Please notify us in advance if you are unable to attend.
URL:https://cpsac.org/event/car-seat-education-appointments/2026-07-01/
LOCATION:The Hospital for Sick Children\, University Avenue\, Toronto\, ON\, M5G 1X8\, Canada
CATEGORIES:Clinic
ATTACH;FMTTYPE=image/jpeg:https://cpsac.org/wp-content/uploads/2025/10/SK-logo-horiz-Trauma-Program.jpg
ORGANIZER;CN="The Hospital for Sick Children":MAILTO:emma.schmidt@sickkids.ca
GEO:43.6570957;-79.3877344
X-APPLE-STRUCTURED-LOCATION;VALUE=URI;X-ADDRESS=The Hospital for Sick Children University Avenue Toronto ON M5G 1X8 Canada;X-APPLE-RADIUS=500;X-TITLE=University Avenue:geo:-79.3877344,43.6570957
END:VEVENT
BEGIN:VEVENT
DTSTART;TZID=America/Moncton:20260706T090000
DTEND;TZID=America/Moncton:20260706T120000
DTSTAMP:20260424T095753
CREATED:20250325T171011Z
LAST-MODIFIED:20250911T155102Z
UID:10001774-1783328400-1783339200@cpsac.org
SUMMARY:Car Seat Clinic | Clinique de siège d’auto
DESCRIPTION:????Are you sure your child’s car seat is installed correctly? \nOver 70% of car seats are misused\, but we’re here to help! \nOur Certified Child Passenger Safety Technician will be on-site to: \n✅ Inspect your car seat installation\n✅ Provide hands-on assistance and guidance\n✅ Ensure your child’s seat meets safety standards\n✅ Answer any questions you have about car seat safety \n  \nWhy Attend? \n\nProtect your child with expert help\nLearn the latest car seat safety tips\nCompletely FREE service! Donations accepted.\n\nRSVP Now: (506)384-7874 to reserve your spot\, as space is limited. \n  \n???????? \nÊtes-vous sûr que le siège auto de votre enfant est correctement installé ? \nPlus de 70 % des sièges auto sont mal utilisés\, mais nous sommes là pour vous aider ! \nNotre Technicienne Certifié en Sécurité des Sièges Auto sera sur place pour : \n✅ Vérifier l’installation de votre siège auto\n✅ Vous fournir une assistance et des conseils pratiques\n✅ S’assurer que le siège de votre enfant répond aux normes de sécurité\n✅ Répondre à toutes vos questions sur la sécurité des sièges auto \n  \nPourquoi participer ? \n\nProtégez votre enfant avec l’aide d’experts\nApprenez les dernières astuces de sécurité des sièges auto\nService complètement GRATUIT !\n\nInscrivez-vous maintenant : (506)384-7874 pour réserver votre place\, car les places sont limitées.
URL:https://cpsac.org/event/car-seat-clinic-clinique-de-siege-dauto/2026-07-06/
LOCATION:MacDonaldBuickGMC\, 111BaigBlvd.\, Moncton\, NB\, E1A 1S7\, Canada
CATEGORIES:Clinic,Events
ORGANIZER;CN="Monique":MAILTO:admin@frc-crf.com
GEO:46.0960121;-64.754296
X-APPLE-STRUCTURED-LOCATION;VALUE=URI;X-ADDRESS=MacDonaldBuickGMC 111BaigBlvd. Moncton NB E1A 1S7 Canada;X-APPLE-RADIUS=500;X-TITLE=111BaigBlvd.:geo:-64.754296,46.0960121
END:VEVENT
BEGIN:VEVENT
DTSTART;TZID=America/Toronto:20260707T083000
DTEND;TZID=America/Toronto:20260710T163000
DTSTAMP:20260424T095753
CREATED:20260421T163612Z
LAST-MODIFIED:20260421T190910Z
UID:10002895-1783413000-1783701000@cpsac.org
SUMMARY:CPST Training – Gander\, NL
DESCRIPTION:Help parents and caregivers choose and use car seats and booster seats safely. \n\nGander\, NL\nDates: July 7\, 8\, 9\, 10 – 2026 (Tues\, Wed\, Thurs\, Fri)\nTimes: 8:30am-4:30pm every day\nCourse fee: $300\nInstructor: Katherine Hutka\nWith support from the government of Newfoundland and Labrador\, Child Safety Link\, and Gander Bay and Area Family Resource Centre\n\n\n\n\nThe Child Passenger Safety Technician (CPST) training course takes place over 4 days and includes classroom instruction\, demonstrations\, hands-on practice\, multiple-choice knowledge checks and a practical exam in the form of a public car seat check clinic. \nWith this training you can:\n– Plan a community seat check event\n– Give a booster seat presentation at your local school or community centre\n– Answer car seat questions for a parenting or prenatal class\n– Connect with local law enforcement to plan a roadside check\n– Meet with parents and caregivers for one-on-one to support\n– Provide a workshop for your staff \nThis fee includes certification with the Child Passenger Safety Association of Canada for 3 years\, a printed copy of the manual and all supplies.\nThe cost for this workshop is $ 300 to offset costs. \nThis course is offered as a part of injury prevention programming through Child Safety Link – with funding from the province of Newfoundland & Labrador. \nApply to register at this link: https://forms.gle/QXmTkdMtD5u6nasg6
URL:https://cpsac.org/event/cpst-training-gander-nl/
LOCATION:Saint Martin Anglican Church\, 2 Lindbergh Rd #2E7\, Gander\, Newfoundland & Labrador\, A1V 1T8\, Canada
ATTACH;FMTTYPE=image/jpeg:https://cpsac.org/wp-content/uploads/2026/04/Gander-2026.jpg
ORGANIZER;CN="Child Safety Link":MAILTO:katherine.hutka@iwk.nshealth.ca
GEO:48.9581871;-54.6165696
X-APPLE-STRUCTURED-LOCATION;VALUE=URI;X-ADDRESS=Saint Martin Anglican Church 2 Lindbergh Rd #2E7 Gander Newfoundland & Labrador A1V 1T8 Canada;X-APPLE-RADIUS=500;X-TITLE=2 Lindbergh Rd #2E7:geo:-54.6165696,48.9581871
END:VEVENT
BEGIN:VEVENT
DTSTART;TZID=America/Toronto:20260722T090000
DTEND;TZID=America/Toronto:20260722T160000
DTSTAMP:20260424T095753
CREATED:20251001T141448Z
LAST-MODIFIED:20260330T143225Z
UID:10002610-1784710800-1784736000@cpsac.org
SUMMARY:Car Seat Education Appointments
DESCRIPTION:Register for a FREE child car seat appointment to learn how to properly use and install your child’s car seat in your vehicle. \nAppointments are offered most Wednesdays\, and registration opens 3 weeks prior to the date. If there is not an appointment available at a time that works for you\, please email emma.schmidt@sickkids.ca to be placed on a waitlist. \n Location: 555 University Ave\, please park your vehicle on the ramp near the entrance to the hospital. \nNote:  \n\nOne seat per appointment. Please book back-to back appointments if you have more than one seat.\nInterpretation services can be requested ahead of time by emailing emma.schmidt@sickkids.ca.\n\nCancellation Policy:  \nIf you are unable to keep your appointment\, kindly let us know so that we can offer the spot to another family: emma.schmidt@sickkids.ca. Failure to attend a scheduled appointment may result in the loss of booking privileges. Please notify us in advance if you are unable to attend.
URL:https://cpsac.org/event/car-seat-education-appointments/2026-07-22/
LOCATION:The Hospital for Sick Children\, University Avenue\, Toronto\, ON\, M5G 1X8\, Canada
CATEGORIES:Clinic
ATTACH;FMTTYPE=image/jpeg:https://cpsac.org/wp-content/uploads/2025/10/SK-logo-horiz-Trauma-Program.jpg
ORGANIZER;CN="The Hospital for Sick Children":MAILTO:emma.schmidt@sickkids.ca
GEO:43.6570957;-79.3877344
X-APPLE-STRUCTURED-LOCATION;VALUE=URI;X-ADDRESS=The Hospital for Sick Children University Avenue Toronto ON M5G 1X8 Canada;X-APPLE-RADIUS=500;X-TITLE=University Avenue:geo:-79.3877344,43.6570957
END:VEVENT
BEGIN:VEVENT
DTSTART;TZID=America/Toronto:20260729T090000
DTEND;TZID=America/Toronto:20260729T160000
DTSTAMP:20260424T095753
CREATED:20251001T141448Z
LAST-MODIFIED:20260330T143225Z
UID:10002611-1785315600-1785340800@cpsac.org
SUMMARY:Car Seat Education Appointments
DESCRIPTION:Register for a FREE child car seat appointment to learn how to properly use and install your child’s car seat in your vehicle. \nAppointments are offered most Wednesdays\, and registration opens 3 weeks prior to the date. If there is not an appointment available at a time that works for you\, please email emma.schmidt@sickkids.ca to be placed on a waitlist. \n Location: 555 University Ave\, please park your vehicle on the ramp near the entrance to the hospital. \nNote:  \n\nOne seat per appointment. Please book back-to back appointments if you have more than one seat.\nInterpretation services can be requested ahead of time by emailing emma.schmidt@sickkids.ca.\n\nCancellation Policy:  \nIf you are unable to keep your appointment\, kindly let us know so that we can offer the spot to another family: emma.schmidt@sickkids.ca. Failure to attend a scheduled appointment may result in the loss of booking privileges. Please notify us in advance if you are unable to attend.
URL:https://cpsac.org/event/car-seat-education-appointments/2026-07-29/
LOCATION:The Hospital for Sick Children\, University Avenue\, Toronto\, ON\, M5G 1X8\, Canada
CATEGORIES:Clinic
ATTACH;FMTTYPE=image/jpeg:https://cpsac.org/wp-content/uploads/2025/10/SK-logo-horiz-Trauma-Program.jpg
ORGANIZER;CN="The Hospital for Sick Children":MAILTO:emma.schmidt@sickkids.ca
GEO:43.6570957;-79.3877344
X-APPLE-STRUCTURED-LOCATION;VALUE=URI;X-ADDRESS=The Hospital for Sick Children University Avenue Toronto ON M5G 1X8 Canada;X-APPLE-RADIUS=500;X-TITLE=University Avenue:geo:-79.3877344,43.6570957
END:VEVENT
END:VCALENDAR