BEGIN:VCALENDAR
VERSION:2.0
PRODID:-//CPSAC - ECPv6.15.18//NONSGML v1.0//EN
CALSCALE:GREGORIAN
METHOD:PUBLISH
X-WR-CALNAME:CPSAC
X-ORIGINAL-URL:https://cpsac.org
X-WR-CALDESC:Events for CPSAC
REFRESH-INTERVAL;VALUE=DURATION:PT1H
X-Robots-Tag:noindex
X-PUBLISHED-TTL:PT1H
BEGIN:VTIMEZONE
TZID:America/Toronto
BEGIN:DAYLIGHT
TZOFFSETFROM:-0500
TZOFFSETTO:-0400
TZNAME:EDT
DTSTART:20250309T070000
END:DAYLIGHT
BEGIN:STANDARD
TZOFFSETFROM:-0400
TZOFFSETTO:-0500
TZNAME:EST
DTSTART:20251102T060000
END:STANDARD
BEGIN:DAYLIGHT
TZOFFSETFROM:-0500
TZOFFSETTO:-0400
TZNAME:EDT
DTSTART:20260308T070000
END:DAYLIGHT
BEGIN:STANDARD
TZOFFSETFROM:-0400
TZOFFSETTO:-0500
TZNAME:EST
DTSTART:20261101T060000
END:STANDARD
BEGIN:DAYLIGHT
TZOFFSETFROM:-0500
TZOFFSETTO:-0400
TZNAME:EDT
DTSTART:20270314T070000
END:DAYLIGHT
BEGIN:STANDARD
TZOFFSETFROM:-0400
TZOFFSETTO:-0500
TZNAME:EST
DTSTART:20271107T060000
END:STANDARD
END:VTIMEZONE
BEGIN:VEVENT
DTSTART;TZID=America/Toronto:20260707T083000
DTEND;TZID=America/Toronto:20260710T163000
DTSTAMP:20260422T090625
CREATED:20260421T163612Z
LAST-MODIFIED:20260421T190910Z
UID:10002895-1783413000-1783701000@cpsac.org
SUMMARY:CPST Training – Gander\, NL
DESCRIPTION:Help parents and caregivers choose and use car seats and booster seats safely. \n\nGander\, NL\nDates: July 7\, 8\, 9\, 10 – 2026 (Tues\, Wed\, Thurs\, Fri)\nTimes: 8:30am-4:30pm every day\nCourse fee: $300\nInstructor: Katherine Hutka\nWith support from the government of Newfoundland and Labrador\, Child Safety Link\, and Gander Bay and Area Family Resource Centre\n\n\n\n\nThe Child Passenger Safety Technician (CPST) training course takes place over 4 days and includes classroom instruction\, demonstrations\, hands-on practice\, multiple-choice knowledge checks and a practical exam in the form of a public car seat check clinic. \nWith this training you can:\n– Plan a community seat check event\n– Give a booster seat presentation at your local school or community centre\n– Answer car seat questions for a parenting or prenatal class\n– Connect with local law enforcement to plan a roadside check\n– Meet with parents and caregivers for one-on-one to support\n– Provide a workshop for your staff \nThis fee includes certification with the Child Passenger Safety Association of Canada for 3 years\, a printed copy of the manual and all supplies.\nThe cost for this workshop is $ 300 to offset costs. \nThis course is offered as a part of injury prevention programming through Child Safety Link – with funding from the province of Newfoundland & Labrador. \nApply to register at this link: https://forms.gle/QXmTkdMtD5u6nasg6
URL:https://cpsac.org/event/cpst-training-gander-nl/
LOCATION:Saint Martin Anglican Church\, 2 Lindbergh Rd #2E7\, Gander\, Newfoundland & Labrador\, A1V 1T8\, Canada
ATTACH;FMTTYPE=image/jpeg:https://cpsac.org/wp-content/uploads/2026/04/Gander-2026.jpg
ORGANIZER;CN="Child Safety Link":MAILTO:katherine.hutka@iwk.nshealth.ca
GEO:48.9581871;-54.6165696
X-APPLE-STRUCTURED-LOCATION;VALUE=URI;X-ADDRESS=Saint Martin Anglican Church 2 Lindbergh Rd #2E7 Gander Newfoundland & Labrador A1V 1T8 Canada;X-APPLE-RADIUS=500;X-TITLE=2 Lindbergh Rd #2E7:geo:-54.6165696,48.9581871
END:VEVENT
END:VCALENDAR