BEGIN:VCALENDAR
VERSION:2.0
PRODID:-//CPSAC - ECPv6.15.18//NONSGML v1.0//EN
CALSCALE:GREGORIAN
METHOD:PUBLISH
X-ORIGINAL-URL:https://cpsac.org
X-WR-CALDESC:Events for CPSAC
REFRESH-INTERVAL;VALUE=DURATION:PT1H
X-Robots-Tag:noindex
X-PUBLISHED-TTL:PT1H
BEGIN:VTIMEZONE
TZID:America/Toronto
BEGIN:DAYLIGHT
TZOFFSETFROM:-0500
TZOFFSETTO:-0400
TZNAME:EDT
DTSTART:20250309T070000
END:DAYLIGHT
BEGIN:STANDARD
TZOFFSETFROM:-0400
TZOFFSETTO:-0500
TZNAME:EST
DTSTART:20251102T060000
END:STANDARD
BEGIN:DAYLIGHT
TZOFFSETFROM:-0500
TZOFFSETTO:-0400
TZNAME:EDT
DTSTART:20260308T070000
END:DAYLIGHT
BEGIN:STANDARD
TZOFFSETFROM:-0400
TZOFFSETTO:-0500
TZNAME:EST
DTSTART:20261101T060000
END:STANDARD
BEGIN:DAYLIGHT
TZOFFSETFROM:-0500
TZOFFSETTO:-0400
TZNAME:EDT
DTSTART:20270314T070000
END:DAYLIGHT
BEGIN:STANDARD
TZOFFSETFROM:-0400
TZOFFSETTO:-0500
TZNAME:EST
DTSTART:20271107T060000
END:STANDARD
END:VTIMEZONE
BEGIN:VTIMEZONE
TZID:America/Halifax
BEGIN:DAYLIGHT
TZOFFSETFROM:-0400
TZOFFSETTO:-0300
TZNAME:ADT
DTSTART:20250309T060000
END:DAYLIGHT
BEGIN:STANDARD
TZOFFSETFROM:-0300
TZOFFSETTO:-0400
TZNAME:AST
DTSTART:20251102T050000
END:STANDARD
BEGIN:DAYLIGHT
TZOFFSETFROM:-0400
TZOFFSETTO:-0300
TZNAME:ADT
DTSTART:20260308T060000
END:DAYLIGHT
BEGIN:STANDARD
TZOFFSETFROM:-0300
TZOFFSETTO:-0400
TZNAME:AST
DTSTART:20261101T050000
END:STANDARD
BEGIN:DAYLIGHT
TZOFFSETFROM:-0400
TZOFFSETTO:-0300
TZNAME:ADT
DTSTART:20270314T060000
END:DAYLIGHT
BEGIN:STANDARD
TZOFFSETFROM:-0300
TZOFFSETTO:-0400
TZNAME:AST
DTSTART:20271107T050000
END:STANDARD
END:VTIMEZONE
BEGIN:VEVENT
DTSTART;TZID=America/Toronto:20260924T130000
DTEND;TZID=America/Toronto:20260927T170000
DTSTAMP:20260424T201408
CREATED:20260424T182711Z
LAST-MODIFIED:20260424T182711Z
UID:10002897-1790254800-1790528400@cpsac.org
SUMMARY:CPST Training: Moncton Area\, NB
DESCRIPTION:The Child Passenger Safety Technician (CPST) training course takes place over 4 days and includes classroom instruction\, hands-on practice\, assessments\, and a practical exam in the form of a public car seat check clinic. \nDates and Times: \nThursday\, September 24\, 1pm-5pm\nFriday\, September 25\, 8am-5pm\nSaturday\, September 26\, 8am-5pm\nSunday\, September 27\, 8am-5pm\n*Certification Clinic is 1-5pm on Sunday \nWith this training you can:\n– Answer car seat questions for a parenting class or parent-child group\n– Meet with caregivers one-on-one to help\n– Provide a workshop for your staff or colleagues\n– Facilitate a booster seat intervention in your local schools \nThe cost for this training initiative for each participant will be $225\nCertification with the Child Passenger Safety Association of Canada for 3 years\, a printed copy of the manual and all supplies are included. \nEmail Natalie.leslie@hotmail.ca to register or call 506-872-1213.
URL:https://cpsac.org/event/cpst-training-moncton-area-nb/
LOCATION:Riverview Fire Station\, 650 Pinewood Road\, Riverview\, NB\, E1B 5M7\, Canada
ATTACH;FMTTYPE=image/png:https://cpsac.org/wp-content/uploads/2026/04/CPST-Training-Poster.png
ORGANIZER;CN="Natalie Leslie":MAILTO:natalie.leslie@hotmail.ca
GEO:46.0528443;-64.7898811
X-APPLE-STRUCTURED-LOCATION;VALUE=URI;X-ADDRESS=Riverview Fire Station 650 Pinewood Road Riverview NB E1B 5M7 Canada;X-APPLE-RADIUS=500;X-TITLE=650 Pinewood Road:geo:-64.7898811,46.0528443
END:VEVENT
BEGIN:VEVENT
DTSTART;TZID=America/Halifax:20260927T130000
DTEND;TZID=America/Halifax:20260927T170000
DTSTAMP:20260424T201408
CREATED:20260424T185332Z
LAST-MODIFIED:20260424T185403Z
UID:10002898-1790514000-1790528400@cpsac.org
SUMMARY:Riverview Car Seat Safety Clinic
DESCRIPTION:A Car Seat Safety Clinic is being held\, Sunday\, September 27\, 1-5PM at the Riverview Fire Station (650 Pinewood Rd). Make an appointment online here. or text/call Natalie\, 506-872-1213.
URL:https://cpsac.org/event/riverview-car-seat-safety-clinic-2/
LOCATION:Riverview Fire Station\, 650 Pinewood Road\, Riverview\, NB\, E1B 5M7\, Canada
ATTACH;FMTTYPE=image/png:https://cpsac.org/wp-content/uploads/2026/04/Clinic-Poster-1.png
ORGANIZER;CN="Natalie Leslie":MAILTO:natalie.leslie@hotmail.ca
GEO:46.0528443;-64.7898811
X-APPLE-STRUCTURED-LOCATION;VALUE=URI;X-ADDRESS=Riverview Fire Station 650 Pinewood Road Riverview NB E1B 5M7 Canada;X-APPLE-RADIUS=500;X-TITLE=650 Pinewood Road:geo:-64.7898811,46.0528443
END:VEVENT
END:VCALENDAR