BEGIN:VCALENDAR
VERSION:2.0
PRODID:-//CPSAC - ECPv6.15.18//NONSGML v1.0//EN
CALSCALE:GREGORIAN
METHOD:PUBLISH
X-WR-CALNAME:CPSAC
X-ORIGINAL-URL:https://cpsac.org
X-WR-CALDESC:Events for CPSAC
REFRESH-INTERVAL;VALUE=DURATION:PT1H
X-Robots-Tag:noindex
X-PUBLISHED-TTL:PT1H
BEGIN:VTIMEZONE
TZID:America/Toronto
BEGIN:DAYLIGHT
TZOFFSETFROM:-0500
TZOFFSETTO:-0400
TZNAME:EDT
DTSTART:20250309T070000
END:DAYLIGHT
BEGIN:STANDARD
TZOFFSETFROM:-0400
TZOFFSETTO:-0500
TZNAME:EST
DTSTART:20251102T060000
END:STANDARD
BEGIN:DAYLIGHT
TZOFFSETFROM:-0500
TZOFFSETTO:-0400
TZNAME:EDT
DTSTART:20260308T070000
END:DAYLIGHT
BEGIN:STANDARD
TZOFFSETFROM:-0400
TZOFFSETTO:-0500
TZNAME:EST
DTSTART:20261101T060000
END:STANDARD
BEGIN:DAYLIGHT
TZOFFSETFROM:-0500
TZOFFSETTO:-0400
TZNAME:EDT
DTSTART:20270314T070000
END:DAYLIGHT
BEGIN:STANDARD
TZOFFSETFROM:-0400
TZOFFSETTO:-0500
TZNAME:EST
DTSTART:20271107T060000
END:STANDARD
END:VTIMEZONE
BEGIN:VEVENT
DTSTART;TZID=America/Toronto:20260412T130000
DTEND;TZID=America/Toronto:20260412T160000
DTSTAMP:20260420T054124
CREATED:20260326T161920Z
LAST-MODIFIED:20260326T162016Z
UID:10002885-1775998800-1776009600@cpsac.org
SUMMARY:Clinique de vérification – Saint-Hyacinthe
DESCRIPTION:9 candidates-techniciennes formées par l’ASEPC vous attendent afin de vérifier l’installation de vos sièges d’autos!\nElles ont besoin de vous pour compléter leur formation pratique! Chaque installation sera validée par l’instructrice. \nQuand? Dimanche le 12 avril 2026 de 13h00 à 16h00 \nOù? 6485 blvd Laframboise\, St-Hyacinthe \nGratuit – contribtions volontaires grandement appréciées
URL:https://cpsac.org/event/clinique-de-verification-saint-hyacinthe/
LOCATION:VÄXA centre ressources\, 6485 boulevard Laframboise\, Saint-Hyacinthe\, Québec\, J2R 1B3\, Canada
ATTACH;FMTTYPE=image/png:https://cpsac.org/wp-content/uploads/2026/03/Clinique-St-Hyacinthe.png
ORGANIZER;CN="Vanessa Demers":MAILTO:vanessademerstsep@gmail.com
GEO:45.6494028;-72.9877235
X-APPLE-STRUCTURED-LOCATION;VALUE=URI;X-ADDRESS=VÄXA centre ressources 6485 boulevard Laframboise Saint-Hyacinthe Québec J2R 1B3 Canada;X-APPLE-RADIUS=500;X-TITLE=6485 boulevard Laframboise:geo:-72.9877235,45.6494028
END:VEVENT
BEGIN:VEVENT
DTSTART;TZID=America/Toronto:20260410T080000
DTEND;TZID=America/Toronto:20260412T170000
DTSTAMP:20260420T054124
CREATED:20260202T145854Z
LAST-MODIFIED:20260323T020251Z
UID:10002864-1775808000-1776013200@cpsac.org
SUMMARY:Formation TSEP – St-Hyacinthe
DESCRIPTION:✨F O R M A T I O N T S E P️✨️ \nLa formation de Techinicien en Sécurité des Enfants Passagers est offerte à tous ceux et celles désirant y participer; parents\, grands-parents\, donneurs de soins\, personnel oeuvrant avec les enfants et plus! \n📍 Cette formation aura lieu chez VÄXA centre ressources à Saint-Hyacinthe\, les 10-11 et 12 avril 2026. \nInscriptions au maximum le 10 mars 2026.\nEntente de paiement possible. \n*un minimum d’inscription est requis pour la formation. \n📧 Pour information et/ou inscription : vanessademerstsep@gmail.com \nAu plaisir de vous rencontrer 🤩
URL:https://cpsac.org/event/formation-tsep-st-hyacinthe/
LOCATION:VÄXA centre ressources\, 6485 boulevard Laframboise\, Saint-Hyacinthe\, Québec\, J2R 1B3\, Canada
CATEGORIES:Events,Training
ATTACH;FMTTYPE=image/png:https://cpsac.org/wp-content/uploads/2026/02/Formation.png
ORGANIZER;CN="Vanessa Demers":MAILTO:vanessademerstsep@gmail.com
GEO:45.6494028;-72.9877235
X-APPLE-STRUCTURED-LOCATION;VALUE=URI;X-ADDRESS=VÄXA centre ressources 6485 boulevard Laframboise Saint-Hyacinthe Québec J2R 1B3 Canada;X-APPLE-RADIUS=500;X-TITLE=6485 boulevard Laframboise:geo:-72.9877235,45.6494028
END:VEVENT
END:VCALENDAR