BEGIN:VCALENDAR
VERSION:2.0
PRODID:-//CPSAC - ECPv6.15.18//NONSGML v1.0//EN
CALSCALE:GREGORIAN
METHOD:PUBLISH
X-ORIGINAL-URL:https://cpsac.org
X-WR-CALDESC:Events for CPSAC
REFRESH-INTERVAL;VALUE=DURATION:PT1H
X-Robots-Tag:noindex
X-PUBLISHED-TTL:PT1H
BEGIN:VTIMEZONE
TZID:America/Edmonton
BEGIN:DAYLIGHT
TZOFFSETFROM:-0700
TZOFFSETTO:-0600
TZNAME:MDT
DTSTART:20250309T090000
END:DAYLIGHT
BEGIN:STANDARD
TZOFFSETFROM:-0600
TZOFFSETTO:-0700
TZNAME:MST
DTSTART:20251102T080000
END:STANDARD
BEGIN:DAYLIGHT
TZOFFSETFROM:-0700
TZOFFSETTO:-0600
TZNAME:MDT
DTSTART:20260308T090000
END:DAYLIGHT
BEGIN:STANDARD
TZOFFSETFROM:-0600
TZOFFSETTO:-0700
TZNAME:MST
DTSTART:20261101T080000
END:STANDARD
BEGIN:DAYLIGHT
TZOFFSETFROM:-0700
TZOFFSETTO:-0600
TZNAME:MDT
DTSTART:20270314T090000
END:DAYLIGHT
BEGIN:STANDARD
TZOFFSETFROM:-0600
TZOFFSETTO:-0700
TZNAME:MST
DTSTART:20271107T080000
END:STANDARD
END:VTIMEZONE
BEGIN:VEVENT
DTSTART;TZID=America/Edmonton:20260507T120000
DTEND;TZID=America/Edmonton:20260507T150000
DTSTAMP:20260423T094016
CREATED:20260421T004555Z
LAST-MODIFIED:20260421T004836Z
UID:10002894-1778155200-1778166000@cpsac.org
SUMMARY:Car Seat Clinic – Lac La Biche\, AB
DESCRIPTION:Join us for a free car seat clinic where Child Passenger Safety Technicians (CPSTs) in training will be offering car seat checks under the direct supervision of certified instructors. \nThis hands-on clinic is part of their final certification process and is a valuable opportunity to receive support with your car seat while contributing to the training of new CPSTs. \nWhat You’ll Receive: \n• A full car seat check and installation support• Education on best practices for harnessing and child safety• Recommendations tailored to your vehicle and child’s needs• Oversight from certified CPST Instructors to ensure quality and accuracy \n📅 Date: May 7\, 2026📍 Location: Lac la Biche\, AB⏰ Time: 12:00-3:00 pm \n🔗 Pre-registration is recommended to secure your appointment.Register: https://carseatconnection.as.me/laclabiche \n🎁 Each attending family will receive a gift card\, and all attendees will be entered into a draw to win a car seat.\n*Winner will be contacted after the clinic. \nThere is no cost to attend.Please bring your vehicle\, car seat\, child (if possible)\, and both the car seat and vehicle manuals. \nYour participation helps provide valuable real-world experience for technicians in training while supporting child passenger safety in the community.
URL:https://cpsac.org/event/car-seat-clinic-lac-la-biche-ab/
LOCATION:Ramada Hotel\, 9305 100 Street\, Lac La Biche\, Alberta\, Canada
CATEGORIES:Clinic,Events
ATTACH;FMTTYPE=image/png:https://cpsac.org/wp-content/uploads/2026/04/36099.png
ORGANIZER;CN="Samantha Waddell":MAILTO:waddles@telus.net
GEO:54.7564382;-111.9704052
X-APPLE-STRUCTURED-LOCATION;VALUE=URI;X-ADDRESS=Ramada Hotel 9305 100 Street Lac La Biche Alberta Canada;X-APPLE-RADIUS=500;X-TITLE=9305 100 Street:geo:-111.9704052,54.7564382
END:VEVENT
END:VCALENDAR